BEGIN:VCALENDAR
VERSION:2.0
PRODID:-//Cardinia Environment Coalition - ECPv4.6.17//NONSGML v1.0//EN
CALSCALE:GREGORIAN
METHOD:PUBLISH
X-WR-CALNAME:Cardinia Environment Coalition
X-ORIGINAL-URL:https://cecinc.net.au
X-WR-CALDESC:Events for Cardinia Environment Coalition
BEGIN:VEVENT
DTSTART;TZID=Australia/Melbourne:20200305T183000
DTEND;TZID=Australia/Melbourne:20200305T210000
DTSTAMP:20200229T134846
CREATED:20200213T220952Z
LAST-MODIFIED:20200213T220952Z
UID:4144-1583433000-1583442000@cecinc.net.au
SUMMARY:Cardinia Environment Coalition - Women in Conservation Dinner
DESCRIPTION: \n#cmsms_row_5e5a6bbe91d12 .cmsms_row_outer_parent { \n	padding-top: 0px; \n} \n\n\n\n\n\n\n\n\nThe Committee of Management of the Cardinia Environment Coalition invites you to celebrate Cardinia Women in Conservation\, to coincide with International Women’s Day 2020. \nWe are delighted have 3 Cardinia women active in environmental work as guest speakers – each with a different story to tell. \n\nElizabeth Fraser OAM and immediate past president of the CEC\nDr Elizabeth Hartnell-Young\nDr Sarah McClagan\n\nDress code: A touch of purple\, green and white. \nTicket price includes 3 course meal\, sparkling wine upon arrival and fruit juice / soft drinks. Other drinks available for purchase from the venue. \nPlease advise of any special dietary requirements or access requirements. \n\n \n\n\nتم النشر بواسطة ‏‎CEC : Cardinia Environment Coalition‎‏ في السبت، ٨ فبراير ٢٠٢٠ \n\n\n\n\n\n\n\n\n\n\n
URL:https://cecinc.net.au/event/cardinia-environment-coalition-women-in-conservation-dinner/
LOCATION:62 Carmeron Way\, Pakenham\, Victoria\, 3810\, Australia
END:VEVENT
END:VCALENDAR